BEGIN:VCALENDAR
VERSION:2.0
PRODID:-//ChamberMaster//Event Calendar 2.0//EN
METHOD:PUBLISH
X-PUBLISHED-TTL:P3D
REFRESH-INTERVAL:P3D
CALSCALE:GREGORIAN
BEGIN:VEVENT
DTSTART:20260512T150000Z
DTEND:20260512T190000Z
X-MICROSOFT-CDO-ALLDAYEVENT:FALSE
SUMMARY:CONNECTIONS East Texas Behavioral Health Summit
DESCRIPTION:Our third annual Summit brings together East Texas residents\, healthcare providers\, nonprofits\, and community leaders to explore how we can strengthen behavioral health across our region. \n\n\n\nWeather you are seeking resources\, supporting a loved one\, working in healthcare\, or simply interested in the well-being of our community\, Connections is for you.
X-ALT-DESC;FMTTYPE=text/html:<span style="font-family:tahoma">Our third annual Summit brings together East Texas residents\, healthcare providers\, nonprofits\, and community leaders to explore how we can strengthen behavioral health across our region.&nbsp\;<br />\n<br />\nWeather you are seeking resources\, supporting a loved one\, working in healthcare\, or simply interested in the well-being of our community\, Connections is for you.&nbsp\;</span>
LOCATION:W.T. Brookshires Conference Center in Tyler\, TX 2000 W Front St\, Tyler\, TX 75702
UID:e.3103.1896
SEQUENCE:3
DTSTAMP:20260422T222331Z
URL:http://dev.cantontexaschamber.com/events/details/connections-east-texas-behavioral-health-summit-1896
END:VEVENT

END:VCALENDAR
