BEGIN:VCALENDAR
VERSION:2.0
PRODID:-//ChamberMaster//Event Calendar 2.0//EN
METHOD:PUBLISH
X-PUBLISHED-TTL:P3D
REFRESH-INTERVAL:P3D
CALSCALE:GREGORIAN
BEGIN:VEVENT
DTSTART:20260428T210000Z
DTEND:20260428T213000Z
X-MICROSOFT-CDO-ALLDAYEVENT:FALSE
SUMMARY:2026-Ribbon Cutting-Virtue Marketing and Design Co.
DESCRIPTION:Join us as we celebrate the Ribbon Cutting for Virtue Marketing and Design Co.\n \n\nVirtue offers branding\, web design\, social media management\, and creative marketing solutions tailored specifically for small businesses.
X-ALT-DESC;FMTTYPE=text/html:<span style="color: rgb(51\, 51\, 51)\; font-family: sans-serif\, Arial\, Verdana\, &quot\;Trebuchet MS&quot\;\; font-size: 13px\; background-color: rgb(255\, 255\, 255)\;">Join us as we celebrate the Ribbon Cutting for Virtue Marketing and Design Co.</span>\n<div dir="auto" style="font-family: inherit\;">&nbsp\;</div>\n\n<div dir="auto" style="font-family: inherit\;">Virtue offers branding\, web design\, social media management\, and creative marketing solutions tailored specifically for small businesses.</div>\n
LOCATION:1457 N Trade Days Blvd\, Suite 109 Canton\, Texas 75103
UID:e.3103.1899
SEQUENCE:3
DTSTAMP:20260422T222706Z
URL:http://dev.cantontexaschamber.com/events/details/2026-ribbon-cutting-virtue-marketing-and-design-co-1899
END:VEVENT

END:VCALENDAR
